BEGIN:VCALENDAR
VERSION:2.0
PRODID:-//Club 1857 - ECPv6.15.18//NONSGML v1.0//EN
CALSCALE:GREGORIAN
METHOD:PUBLISH
X-WR-CALNAME:Club 1857
X-ORIGINAL-URL:https://club1857.com/en/
X-WR-CALDESC:Events for Club 1857
REFRESH-INTERVAL;VALUE=DURATION:PT1H
X-Robots-Tag:noindex
X-PUBLISHED-TTL:PT1H
BEGIN:VTIMEZONE
TZID:Europe/Helsinki
BEGIN:DAYLIGHT
TZOFFSETFROM:+0200
TZOFFSETTO:+0300
TZNAME:EEST
DTSTART:20250330T010000
END:DAYLIGHT
BEGIN:STANDARD
TZOFFSETFROM:+0300
TZOFFSETTO:+0200
TZNAME:EET
DTSTART:20251026T010000
END:STANDARD
BEGIN:DAYLIGHT
TZOFFSETFROM:+0200
TZOFFSETTO:+0300
TZNAME:EEST
DTSTART:20260329T010000
END:DAYLIGHT
BEGIN:STANDARD
TZOFFSETFROM:+0300
TZOFFSETTO:+0200
TZNAME:EET
DTSTART:20261025T010000
END:STANDARD
BEGIN:DAYLIGHT
TZOFFSETFROM:+0200
TZOFFSETTO:+0300
TZNAME:EEST
DTSTART:20270328T010000
END:DAYLIGHT
BEGIN:STANDARD
TZOFFSETFROM:+0300
TZOFFSETTO:+0200
TZNAME:EET
DTSTART:20271031T010000
END:STANDARD
END:VTIMEZONE
BEGIN:VEVENT
DTSTART;TZID=Europe/Helsinki:20260515T213000
DTEND;TZID=Europe/Helsinki:20260516T000000
DTSTAMP:20260421T034415
CREATED:20260414T080633Z
LAST-MODIFIED:20260414T080633Z
UID:26606-1778880600-1778889600@club1857.com
SUMMARY:Mariana Popova: The Emotion Continues at Club 1857 – 15.05.2026
DESCRIPTION:Following the exceptional interest and a completely sold-out first evening\, Mariana Popova returns once again to the stage of Club 1857.\nA second date is here—for everyone who couldn’t attend the first event\, as well as for those who wish to experience the magic again. \nJoin us for another unforgettable night filled with emotion\, beloved songs\, a remarkable voice\, and shared moments in the warm and intimate atmosphere of our club. \nWith:\n🎸 Aleksandar Georgiev – guitar🎹 Antoni Georgiev – Tonto – piano \n📅 15.05.2026🕣 21:30📍 22 San Stefano St.🏷️ Admission: €20 | 39.12 BGN📞 Reservations: +359 876 00 1857 \nDon’t miss this special musical evening. 🎶
URL:https://club1857.com/en/events/mariana-popova-live-event-club1857-15-05-2026/
CATEGORIES:Music
ATTACH;FMTTYPE=image/jpeg:https://cdn.club1857.com/wp-content/uploads/2026/04/14100436/1080x1920-copy-1.jpg
END:VEVENT
END:VCALENDAR