BEGIN:VCALENDAR
VERSION:2.0
PRODID:-//Club 1857 - ECPv6.15.18//NONSGML v1.0//EN
CALSCALE:GREGORIAN
METHOD:PUBLISH
X-ORIGINAL-URL:https://club1857.com
X-WR-CALDESC:Събития за Club 1857
REFRESH-INTERVAL;VALUE=DURATION:PT1H
X-Robots-Tag:noindex
X-PUBLISHED-TTL:PT1H
BEGIN:VTIMEZONE
TZID:Europe/Helsinki
BEGIN:DAYLIGHT
TZOFFSETFROM:+0200
TZOFFSETTO:+0300
TZNAME:EEST
DTSTART:20250330T010000
END:DAYLIGHT
BEGIN:STANDARD
TZOFFSETFROM:+0300
TZOFFSETTO:+0200
TZNAME:EET
DTSTART:20251026T010000
END:STANDARD
BEGIN:DAYLIGHT
TZOFFSETFROM:+0200
TZOFFSETTO:+0300
TZNAME:EEST
DTSTART:20260329T010000
END:DAYLIGHT
BEGIN:STANDARD
TZOFFSETFROM:+0300
TZOFFSETTO:+0200
TZNAME:EET
DTSTART:20261025T010000
END:STANDARD
BEGIN:DAYLIGHT
TZOFFSETFROM:+0200
TZOFFSETTO:+0300
TZNAME:EEST
DTSTART:20270328T010000
END:DAYLIGHT
BEGIN:STANDARD
TZOFFSETFROM:+0300
TZOFFSETTO:+0200
TZNAME:EET
DTSTART:20271031T010000
END:STANDARD
END:VTIMEZONE
BEGIN:VEVENT
DTSTART;TZID=Europe/Helsinki:20260306T080000
DTEND;TZID=Europe/Helsinki:20260331T170000
DTSTAMP:20260421T051048
CREATED:20260226T120810Z
LAST-MODIFIED:20260226T121053Z
UID:26530-1772784000-1774976400@club1857.com
SUMMARY:F1 Календар 2026 - Гледай в Club 1857
DESCRIPTION:Очакваме те в Club 1857 с 15 големи екрана и мноого настроение\nСезон 2026 във Формула 1 обещава да бъде вълнуващ! \nЕто пълния график на състезанията и тестовите сесии за новия сезон: \n\n\n\nДата\nСъстезание\n\n\n\n\n11.02 – 14.02\nБахрейн – Тест 1\n\n\n18.02 – 21.02\nБахрейн – Тест 2\n\n\n06.03 – 08.03\nГран При на Австралия\n\n\n13.03 – 15.03\nГран При на Китай\n\n\n27.03 – 29.03\nГран При на Япония\n\n\n10.04 – 12.04\nГран При на Бахрейн\n\n\n17.04 – 19.04\nГран При на Саудитска Арабия\n\n\n01.05 – 03.05\nГран При на САЩ – Маями\n\n\n22.05 – 24.05\nГран При на Канада\n\n\n05.06 – 07.06\nГран При на Монако\n\n\n12.06 – 14.06\nГран При на Испания – Барселона\n\n\n26.06 – 28.06\nГран При на Австрия\n\n\n03.07 – 05.07\nГран При на Великобритания\n\n\n17.07 – 19.07\nГран При на Белгия\n\n\n24.07 – 26.07\nГран При на Унгария\n\n\n21.08 – 23.08\nГран При на Нидерландия\n\n\n04.09 – 06.09\nГран При на Италия\n\n\n11.09 – 13.09\nГран При на Испания – Мадрид\n\n\n24.09 – 26.09\nГран При на Азербайджан\n\n\n09.10 – 11.10\nГран При на Сингапур\n\n\n23.10 – 25.10\nГран При на САЩ\n\n\n30.10 – 01.11\nГран При на Мексико\n\n\n06.11 – 08.11\nГран При на Бразилия\n\n\n20.11 – 21.11\nГран При на САЩ – Маями\n\n\n27.11 – 29.11\nГран При на Катар\n\n\n04.12 – 06.12\nГран При на Абу Даби\n\n\n\nСледи отблизо за сезона и не пропускай нито едно състезание на най-вълнуващото автомобилно шоу в света! 🏎️💨
URL:https://club1857.com/events/f1-kalendar-2026/
ATTACH;FMTTYPE=image/png:https://cdn.club1857.com/wp-content/uploads/2026/02/26140820/02.03.2026_site.png
END:VEVENT
BEGIN:VEVENT
DTSTART;TZID=Europe/Helsinki:20260328T220000
DTEND;TZID=Europe/Helsinki:20260329T010000
DTSTAMP:20260421T051048
CREATED:20260324T151319Z
LAST-MODIFIED:20260324T151413Z
UID:26576-1774735200-1774746000@club1857.com
SUMMARY:Теди Кацарова и БНБенд – Birthday Concert в Club 1857 | 28.03.2026
DESCRIPTION:Тази събота – на 28 март сцената на Club 1857 ще посрещне една от най-обичаните и харизматични български изпълнителки – Теди Кацарова\, която ще отпразнува своя рожден ден с изключителен концерт на живо заедно с БНБенд. \nС неподражаем стил\, силно сценично присъствие и глас\, който докосва\, Теди Кацарова превръща всяко свое участие в истинско преживяване. Тази специална вечер обещава не просто музика\, а емоция\, която остава – с любими песни\, изненади и много настроение. \nBirthday Concert-ът ще бъде празник на музиката\, на таланта и на онези моменти\, които се помнят дълго след последния акорд. \nClub 1857 те кани да станеш част от тази незабравима вечер – там\, където сцената среща истинските артисти\, а публиката – чистата емоция. \n📅 28 март 2026🎶 Начало: 22:00\n📞 За резервации: +359 876 00 1857\n📍 ул. „Сан Стефано“ 22 \nСъбери компанията\, наслади се на жива музика\, студена бира и атмосферата на Club 1857 – мястото\, където забавлението на спира 😉
URL:https://club1857.com/events/tedi-katsarova-i-bnbend-birthday-concert-2026/
CATEGORIES:МУЗИКА
ATTACH;FMTTYPE=image/png:https://cdn.club1857.com/wp-content/uploads/2026/03/24171240/Website.28.03.2026.png
END:VEVENT
BEGIN:VEVENT
DTSTART;TZID=Europe/Helsinki:20260417T213000
DTEND;TZID=Europe/Helsinki:20260418T003000
DTSTAMP:20260421T051048
CREATED:20260320T093246Z
LAST-MODIFIED:20260320T133643Z
UID:26566-1776461400-1776472200@club1857.com
SUMMARY:Rhythm Boys – вечер на британския рок в Club 1857 | 17.04.2026
DESCRIPTION:На 17 април (петък) сцената на Club 1857 ще бъде завладяна от Rhythm Boys\, които се завръщат с нова специална програма\, посветена на най-големите хитове на британската музикална сцена. \nОчаква ви вечер с песни на легендарни групи и изпълнители като The Beatles\, The Rolling Stones\, Pink Floyd\, The Kinks\, Rod Stewart и още много класически рок хитове\, които поколения фенове обичат. \nRhythm Boys ще ви върнат към златната ера на британския рок с енергия\, настроение и музика\, която всички знаем и пеем. \n🕘 Начало: 21:30\n📞 За резервации: +359 876 00 1857\n📍ул. „Сан Стефано“ 22\n \nСъберете приятели\, насладете се на жива музика\, студена бира и атмосферата на Club 1857 – мястото\, където рокът винаги звучи добре. 🎸🍻 \n 
URL:https://club1857.com/events/rhythm-boys-vecher-na-britanskiq-rok-17-04-26/
CATEGORIES:МУЗИКА
ATTACH;FMTTYPE=image/png:https://cdn.club1857.com/wp-content/uploads/2026/03/20135705/Website.20.03.2026-1.png
END:VEVENT
BEGIN:VEVENT
DTSTART;TZID=Europe/Helsinki:20260424T213000
DTEND;TZID=Europe/Helsinki:20260425T000000
DTSTAMP:20260421T051048
CREATED:20260327T123118Z
LAST-MODIFIED:20260327T123118Z
UID:26585-1777066200-1777075200@club1857.com
SUMMARY:Антон Котас и „Перфектното число“ на живо – вечер с вечни хитове 24.04.2026 | Club1857
DESCRIPTION:На 24 април (петък) ви очаква вечер\, в която музиката ще събере поколения\, любими песни и много настроение на едно място. \nАнтон Котас и неговата банда „Перфектното число“ ще ви поведат на музикално пътешествие през вечни хитове\, които всички познаваме\, обичаме и пеем с цяло гърло. \nРезервирай на: +359 876 00 1857 \n🎤 Какво да очаквате?\nСпециална програма с любими песни на: \n\nЕлвис Пресли\nЕд Шийрън\nЕйми Уайнхаус\nРоби Уилямс\nДжери Лий Луис\nВасил Найденов\nРей Чарлс\nи още много обичани изпълнители\n\nТова ще бъде вечер\, изпълнена с: \n\nмного енергия\nемоция и настроение\nбезкомпромисен звук\nпесни\, които всички знаем\n\n⭐ Кой е Антон Котас?\nАнтон Котас е един от ярките млади гласове на българската сцена. \nСред отличията и участията му са: \n\nНаграда за дебют на БНР за 2025 г.\nучастие в Новогодишната програма на БНТ\nсилно присъствие в „Гласът на България“\nконцерти на едни от най-престижните сцени в страната\nноминация от БНР през 2026 г. в категорията „Най-висок слушателски вот“\nучастие на 8 май в Благотворителния концерт на Фондация „Лили Иванова“ в Арена 8888\n\n🎸 Кои са „Перфектното число“?\nДо Антон на сцената застават: \n\nХристо Стакев – китара\nТервел Вълчанов – бас китара\nХристомир Събчев – барабани\n\nЗаедно те създават звук и атмосфера\, които не просто се слушат\, а се преживяват. \n💫 Защо да не го пропускате?\nЗащото това не е просто концерт.Това е вечер\, в която: \n\nще си припомните любими песни;\nще пеете заедно с артистите;\nще усетите силата на живата музика;\nще си тръгнете с усмивка и желание за още.\n\nSummarize: \nНа 24 април (петък) Антон Котас и бандата му „Перфектното число“ ще ви подарят вечер\, изпълнена с енергия\, емоция и вечни хитове от световната и българската музикална сцена. Очаква ви специална програма с любими песни\, безкомпромисен звук и атмосфера\, която ще ви накара да пеете с цяло гърло.
URL:https://club1857.com/events/anton-kotas-v-club1857-24-4-2026/
CATEGORIES:МУЗИКА
ATTACH;FMTTYPE=image/png:https://cdn.club1857.com/wp-content/uploads/2026/03/27142325/Website.png
END:VEVENT
BEGIN:VEVENT
DTSTART;TZID=Europe/Helsinki:20260509T213000
DTEND;TZID=Europe/Helsinki:20260510T000000
DTSTAMP:20260421T051048
CREATED:20260420T111538Z
LAST-MODIFIED:20260420T111556Z
UID:26611-1778362200-1778371200@club1857.com
SUMMARY:Rock the World: Rhythm Boys на живо в Club 1857 | 09.05.2026
DESCRIPTION:Готов ли си да разтърсим света? \nСлед много незабравими вечери\, момчетата\, които владеят рокендрола до съвършенство\, се качват отново на сцената на Club 1857.\nRhythm Boys са тук\, за да ни припомнят\, че добрата музика няма срок на годност\, а истинското парти започва там\, където басът се усеща в гърдите. \nОчаквай вечер\, изпълнена с рок ритъм\, виртуозни изпълнения и онази специфична атмосфера\, която само 1857 може да предложи. Независимо дали си фени на класическия рок или просто търсиш перфектното място за танци в съботната вечер – „Rock the World“ е твоето събитие. \n\n\nВход: 15€ \n\n\nНачало: 21:30 ч. \n\n\nЗа резервации: +359 876 00 1857 \n\n\nМестата се запълват бързо – резервирай за своята вечер с автентичен звук още сега!
URL:https://club1857.com/events/rock-the-world-rhythm-boys-na-jivo-09-05-2026/
CATEGORIES:МУЗИКА
ATTACH;FMTTYPE=image/png:https://cdn.club1857.com/wp-content/uploads/2026/04/20131457/1920x1080-1.png
END:VEVENT
BEGIN:VEVENT
DTSTART;TZID=Europe/Helsinki:20260515T213000
DTEND;TZID=Europe/Helsinki:20260516T000000
DTSTAMP:20260421T051048
CREATED:20260414T075816Z
LAST-MODIFIED:20260414T080857Z
UID:26602-1778880600-1778889600@club1857.com
SUMMARY:Мариана Попова: Емоцията продължава в Club 1857 - 15.05.2026
DESCRIPTION:След изключителния интерес и напълно разпродадената първа вечер\, Мариана Попова се завръща отново на сцената на Club 1857. \nВтората дата е тук – за всички\, които не успяха да бъдат част от първото събитие\, както и за тези\, които искат да преживеят магията отново.\nЕлате\, за да изживеем заедно още една вечер\, изпълнена с емоция\, любими песни\, незабравим глас и споделеност в уютната атмосфера на нашия клуб. \nС участието на:🎸 Александър Георгиев – китара🎹 Антони Георгиев – Тонто – пиано \n📅 15.05.2026🕣 21:30📍 ул. „Сан Стефано“ 22🏷️ Вход: €20 | 39\,12 лв.📞 Резервации: +359 876 00 1857 \nНе пропускайте една специална музикална вечер. 🎶
URL:https://club1857.com/events/mariana-popova-v-club1857-15-05-2026/
CATEGORIES:МУЗИКА
ATTACH;FMTTYPE=image/jpeg:https://cdn.club1857.com/wp-content/uploads/2026/04/14095221/1080x1920.jpg
END:VEVENT
END:VCALENDAR